    BEGIN:VCALENDAR
VERSION:2.0
PRODID:-//Transition Minett - ECPv5.7.0//NONSGML v1.0//EN
CALSCALE:GREGORIAN
METHOD:PUBLISH
X-WR-CALNAME:Transition Minett
X-ORIGINAL-URL:https://www.transition-minett.lu
X-WR-CALDESC:évènements pour Transition Minett
BEGIN:VTIMEZONE
TZID:Europe/Luxembourg
BEGIN:DAYLIGHT
TZOFFSETFROM:+0100
TZOFFSETTO:+0200
TZNAME:CEST
DTSTART:20210328T010000
END:DAYLIGHT
BEGIN:STANDARD
TZOFFSETFROM:+0200
TZOFFSETTO:+0100
TZNAME:CET
DTSTART:20211031T010000
END:STANDARD
END:VTIMEZONE
BEGIN:VEVENT
DTSTART;TZID=Europe/Luxembourg:20210415T190000
DTEND;TZID=Europe/Luxembourg:20210415T203000
DTSTAMP:20210722T113423
CREATED:20210322T134740Z
LAST-MODIFIED:20210322T134741Z
UID:1594-1618513200-1618518600@www.transition-minett.lu
SUMMARY:Atelier Boulettes de graines
DESCRIPTION:Soutenir la biodiversité en préparant des bombes de semences pour les semer en ville. Inscription nécessaire via le site Internet!Support biodiversity by preparing seed bombs to sow in cities. Registration via the website!Ënnerstëtz d’Biodiversitéit andeems dir Sombomme virbereet fir se dann an den Stied ze säen. Umeldung iwwert eis Websäit
URL:https://www.transition-minett.lu/event/atelier-boulettes-de-graines/
LOCATION:Mesa\, 1\, rue du Moulin\, Esch-Alzette\, Luxembourg
ATTACH;FMTTYPE=image/jpeg:https://www.transition-minett.lu/wp-content/uploads/fb-samenbomben-selber-machen-guerilla-seed-bombs-1.jpg
ORGANIZER;CN="Mesa%2C%20Transition%20Minett":MAILTO:contact@transition-minett.lu
END:VEVENT
BEGIN:VEVENT
DTSTART;TZID=Europe/Luxembourg:20210424T100000
DTEND;TZID=Europe/Luxembourg:20210424T170000
DTSTAMP:20210722T113423
CREATED:20201020T101717Z
LAST-MODIFIED:20210322T154011Z
UID:773-1619258400-1619283600@www.transition-minett.lu
SUMMARY:Atelier up-cycling: Tawashi
DESCRIPTION:Découvrez avec Sofia la méthode du tissage simple et transformez de vieux chaussettes en eponge! Adultes et enfants bienvenus dès 10 ans. Gratuit\, pas d’inscription \n\n\n\nEntdeckt mam Sofia d’Methode vum einfachen Weben an transforméiert al Strempen zu Schwemp! Erwuessener a Kanner vun 10 Joer un wëllkomm. Gratis\, keg Umedlung neideg \n\n\n\nDiscover with Sofia the method of simple weaving and transform old socks into sponges! Adults and children welcome from 10 years old. Free\, no subscription needed
URL:https://www.transition-minett.lu/event/atelier-up-cycling-faire-un-tapis-de-t-shirt/
LOCATION:Place du Bril\, 120\, Rue de l'Alzette\, Esch-sur-Alzette\, Luxembourg\, 4010\, Luxembourg
CATEGORIES:Mesa,Transition Minett
ATTACH;FMTTYPE=image/jpeg:https://www.transition-minett.lu/wp-content/uploads/upcycling.jpg
END:VEVENT
BEGIN:VEVENT
DTSTART;TZID=Europe/Luxembourg:20210429T200000
DTEND;TZID=Europe/Luxembourg:20210429T210000
DTSTAMP:20210722T113423
CREATED:20210323T103028Z
LAST-MODIFIED:20210426T125941Z
UID:1605-1619726400-1619730000@www.transition-minett.lu
SUMMARY:Atelier Zéro-Déchet déodorant
DESCRIPTION:Miss Bak propose un atelier pour créer son propre déodorant Zéro-Déchet et sans produit chimique.  Il existe une possibilité de récupérer un kit pour faire l’atelier chez soi. L’atelier se fera alors en présentiel ou en ligne. Inscription nécessaire via le site.  \n\n\n\nMiss Bak offers a workshop to create your own Zero-Waste and chemical-free deodorant. There is a possibility to pick up a kit to do the workshop at home. The workshop will happen either face-to-face or online. Registration required via the site. \n\n\n\nD’Miss Bak bitt en Atelier fir Ären eegenen Zero-Waste a chemesch-freien Deodorant ze produzéieren. Et gëtt eng Méiglechkeet e Kit an der Mesa ofzehuelen an den Atelier doheem ze maachen. Den Atelier wäert domat dann entweder an der Mesa oder online sinn. D’Umeldung muss iwwert de Site gemaach ginn. \n\n\n\n \n\n\n\nInfo pour participer en ligne: Vous pourrez venir chercher votre kit d’activité le jeudi 22/04 de 15h à 16h ou le samedi 24/04 de 14h à 16h. Il faudrait également amener 3 bocaux de taille moyenne et un flacon de 30ml au moins pour mettre les ingrédients dedans. \n\n\n\nInfo to participate online: You can pick up your activity kit on Thursday 22/04 from 3 p.m. to 4 p.m. or on Saturday 24/04 from 2 p.m. to 4 p.m. You should also bring 3 medium-sized jars and a 30ml bottle to put the ingredients inside. \n\n\n\nInfo fir online matzemaachen: Dir kënnt Ären Aktivitéitskit en Donneschdeg den 22/04 vun 15:00 bis 16:00 Auer  oder e Samschdeg de 24/04 vun 14.00 bis 16.00 ofhuelen. Dir sollt och 3 mëttelgrouss Glieser an eng 30 ml Fläsch matbréngen fir d’Zutaten dran ze maachen.
URL:https://www.transition-minett.lu/event/atelier-zero-dechet-deodorant/
LOCATION:Mesa\, 1\, rue du Moulin\, Esch-Alzette\, Luxembourg
ATTACH;FMTTYPE=image/jpeg:https://www.transition-minett.lu/wp-content/uploads/Deo-selbstgemacht18-2000x1125-1.jpg
END:VEVENT
BEGIN:VEVENT
DTSTART;TZID=Europe/Luxembourg:20210520T190000
DTEND;TZID=Europe/Luxembourg:20210520T203000
DTSTAMP:20210722T113423
CREATED:20210505T130429Z
LAST-MODIFIED:20210505T131324Z
UID:1854-1621537200-1621542600@www.transition-minett.lu
SUMMARY:Atelier DiY papier recyclé
DESCRIPTION:Dans l’atelier on va faire notre propre papier mâché pour ensuite l’utiliser pour créer du papier recyclé ou on peut même intégrer des graines de fleures et mettre le papier dans du sol après son utilisation.  \n\n\n\nIn the workshop we will make our own paper mush and then use it to create recycled paper\, where we can even integrate flower seeds and put the paper in soil after its use. \n\n\n\nAn dësem Atelier wäerte mir eisen eegenen Papierbrei maachen an duerno benotze fir recycléierte Pabeier ze maachen an dësen kënne mir  souguer Blummekären integréieren an de Pabeier nom Gebrauch an de Buedem setzen.
URL:https://www.transition-minett.lu/event/atelier-diy-papier-recycle/
LOCATION:Mesa\, 1\, rue du Moulin\, Esch-Alzette\, Luxembourg
ATTACH;FMTTYPE=image/jpeg:https://www.transition-minett.lu/wp-content/uploads/FDDE8V6FS8O195J-1-scaled.jpg
END:VEVENT
BEGIN:VEVENT
DTSTART;TZID=Europe/Luxembourg:20210529T100000
DTEND;TZID=Europe/Luxembourg:20210529T150000
DTSTAMP:20210722T113423
CREATED:20210505T134820Z
LAST-MODIFIED:20210505T134821Z
UID:1861-1622282400-1622300400@www.transition-minett.lu
SUMMARY:Chantier participatif à la Mesa
DESCRIPTION:Vous êtes créative et savait pas encore quoi faire Samedi 29 Mai? Alors venez nous aider à finir notre garage et faites des nouvelles connaissances! \n\n\n\nAre you creative and do not have plans yet for Saturday 29 May? Then come and help us finish our garage and make new acquaintances! \n\n\n\nDir sidd kreativ an hutt nach keng Pläng Samschdes den 29 Mee? Dann kommt eis hëllefen eise Garage fërderlech ze stellen an Leiert nei Leit kennen!
URL:https://www.transition-minett.lu/event/chantier-participatif-a-la-mesa/
LOCATION:Mesa\, 1\, rue du Moulin\, Esch-Alzette\, Luxembourg
ATTACH;FMTTYPE=image/png:https://www.transition-minett.lu/wp-content/uploads/image-chantier-participatif.png
END:VEVENT
BEGIN:VEVENT
DTSTART;TZID=Europe/Luxembourg:20210609T190000
DTEND;TZID=Europe/Luxembourg:20210609T210000
DTSTAMP:20210722T113423
CREATED:20210601T125909Z
LAST-MODIFIED:20210601T130037Z
UID:1953-1623265200-1623272400@www.transition-minett.lu
SUMMARY:Chat Zéro Déchet: Alimentation et boissons
DESCRIPTION:Au mois de juin\, Mesa organise 3 ronds de discussion sur un mode de vie zéro déchet. Ici\, vous discuterez de la façon dont vous pouvez réduire vos déchets personnels à un minimum. Celui-ci sera sur la nourriture et les boissons.  \n\n\n\nIn the month of June Mesa organizes 3 discussion rounds on a zero waste lifestyle. Here you will discuss how you can reduce your personal waste to a minimum. This one will be about food and drinks.  \n\n\n\nAm Juni Juni organiséiert Mesa 3 Diskussiounsronnen iwwer en Null Offall Lifestyle. Hei wäert Dir diskutéieren wéi Dir Äre perséinlechen Offall op e Minimum reduzéiere kënnt. Dëse wäert iwwer Iessen a Gedrénks goen.
URL:https://www.transition-minett.lu/event/chat-zero-dechet-alimentation-et-boissons/
LOCATION:Mesa\, 1\, rue du Moulin\, Esch-Alzette\, Luxembourg
ATTACH;FMTTYPE=image/jpeg:https://www.transition-minett.lu/wp-content/uploads/zero-dechet.jpg
END:VEVENT
BEGIN:VEVENT
DTSTART;TZID=Europe/Luxembourg:20210612T160000
DTEND;TZID=Europe/Luxembourg:20210612T173000
DTSTAMP:20210722T113423
CREATED:20210531T132927Z
LAST-MODIFIED:20210531T132928Z
UID:1949-1623513600-1623519000@www.transition-minett.lu
SUMMARY:Atelier Zéro Déchet – récup bougies
DESCRIPTION:Envie de faire des bougies ? Nous fabriquerons de nouvelles bougies avec de la vieille cire récupérer! Nous avons déjà plein de restes de cire et de verres mais si vous avez des restes de cire ou de belle bocaux pour mettre les bougies\, alors n’hésitez pas à les apporter !  \n\n\n\nFeel like making some candles? We will make new candles with old leftover wax! We already have plenty of leftover wax and glasses but if you yourself have leftover wax or beautiful glassware to put the candles in\, then feel free to bring them!  \n\n\n\nHues du Loscht eng Käerz selwer ze maachen? Mir maachen nei Käerzen mat Rescht Wues! Mir hu scho vill Rescht alen Wues a Glieser\, mee wann Dir selwer Rescht Wues hutt oder schéint Behälter fir d’Käerzen dran ze setzen\, da bréngt se gär mat!
URL:https://www.transition-minett.lu/event/atelier-zero-dechet-recup-bougies/
LOCATION:Mesa\, 1\, rue du Moulin\, Esch-Alzette\, Luxembourg
ATTACH;FMTTYPE=image/jpeg:https://www.transition-minett.lu/wp-content/uploads/33I74NXII4I6RBCJD7ZGGYE2GE-scaled.jpg
ORGANIZER;CN="Mesa%2C%20Transition%20Minett":MAILTO:contact@transition-minett.lu
END:VEVENT
BEGIN:VEVENT
DTSTART;TZID=Europe/Luxembourg:20210617T190000
DTEND;TZID=Europe/Luxembourg:20210617T210000
DTSTAMP:20210722T113423
CREATED:20210601T131759Z
LAST-MODIFIED:20210601T131800Z
UID:1960-1623956400-1623963600@www.transition-minett.lu
SUMMARY:Chat Zéro Déchet: hygiène\, nettoyage et vêtements
DESCRIPTION:Au mois de juin\, Mesa organise 3 ronds de discussion sur un mode de vie zéro déchet. Ici\, vous discuterez de la façon dont vous pouvez réduire vos déchets personnels à un minimum. Celui-ci sera sur hygiène\, nettoyage et vêtements.  \n\n\n\nIn the month of June Mesa organizes 3 discussion rounds on a zero waste lifestyle. Here you will discuss how you can reduce your personal waste to a minimum. This one will be about hygiene\, cleaning and clothes.  \n\n\n\nAm Juni Juni organiséiert Mesa 3 Diskussiounsronnen iwwer en Null Offall Lifestyle. Hei wäert Dir diskutéieren wéi Dir Äre perséinlechen Offall op e Minimum reduzéiere kënnt. Dëse wäert iwwer Hygiène\, Botzen a Kleeder goen.
URL:https://www.transition-minett.lu/event/chat-zero-dechet-hygiene-nettoyage-et-vetements/
LOCATION:Mesa\, 1\, rue du Moulin\, Esch-Alzette\, Luxembourg
ATTACH;FMTTYPE=image/jpeg:https://www.transition-minett.lu/wp-content/uploads/zero-dechet.jpg
END:VEVENT
BEGIN:VEVENT
DTSTART;TZID=Europe/Luxembourg:20210626T113000
DTEND;TZID=Europe/Luxembourg:20210626T140000
DTSTAMP:20210722T113423
CREATED:20210615T074920Z
LAST-MODIFIED:20210615T074921Z
UID:2001-1624707000-1624716000@www.transition-minett.lu
SUMMARY:All un den Desch
DESCRIPTION:
URL:https://www.transition-minett.lu/event/all-un-den-desch/
ATTACH;FMTTYPE=image/jpeg:https://www.transition-minett.lu/wp-content/uploads/flyer-all-un-den-Desch-2021-FR-final-scaled.jpg
END:VEVENT
BEGIN:VEVENT
DTSTART;TZID=Europe/Luxembourg:20210629T190000
DTEND;TZID=Europe/Luxembourg:20210629T210000
DTSTAMP:20210722T113423
CREATED:20210601T151610Z
LAST-MODIFIED:20210601T151611Z
UID:1966-1624993200-1625000400@www.transition-minett.lu
SUMMARY:Chat Zéro Déchet: vacances\, bureau\, cadeaux\, mobilier
DESCRIPTION:Au mois de juin\, Mesa organise 3 ronds de discussion sur un mode de vie zéro déchet. Ici\, vous discuterez de la façon dont vous pouvez réduire vos déchets personnels à un minimum. Celui-ci sera sur vacances\, bureau\, cadeaux et mobilier.  \n\n\n\nIn the month of June Mesa organizes 3 discussion rounds on a zero waste lifestyle. Here you will discuss how you can reduce your personal waste to a minimum. This one will be about holidays\, office\, gifts and furniture.  \n\n\n\nAm Juni Juni organiséiert Mesa 3 Diskussiounsronnen iwwer en Null Offall Lifestyle. Hei wäert Dir diskutéieren wéi Dir Äre perséinlechen Offall op e Minimum reduzéiere kënnt. Dëse wäert iwwer Vakanz\, Aarbecht\, Kaddoe a Miwwelen goen.
URL:https://www.transition-minett.lu/event/chat-zero-dechet-vacances-bureau-cadeaux-mobilier/
LOCATION:Mesa\, 1\, rue du Moulin\, Esch-Alzette\, Luxembourg
ATTACH;FMTTYPE=image/jpeg:https://www.transition-minett.lu/wp-content/uploads/zero-dechet.jpg
ORGANIZER;CN="Mesa%2C%20Transition%20Minett":MAILTO:contact@transition-minett.lu
END:VEVENT
BEGIN:VEVENT
DTSTART;TZID=Europe/Luxembourg:20210708T190000
DTEND;TZID=Europe/Luxembourg:20210708T203000
DTSTAMP:20210722T113423
CREATED:20210621T124535Z
LAST-MODIFIED:20210621T124536Z
UID:2016-1625770800-1625776200@www.transition-minett.lu
SUMMARY:Chat Zéro Déchet: Alimentation et boissons
DESCRIPTION:Au mois de juin\, Mesa organise 3 ronds de discussion sur un mode de vie zéro déchet. Ici\, vous discuterez de la façon dont vous pouvez réduire vos déchets personnels à un minimum. Celui-ci sera sur la nourriture et les boissons. \n\n\n\nIn the month of June Mesa organizes 3 discussion rounds on a zero waste lifestyle. Here you will discuss how you can reduce your personal waste to a minimum. This one will be about food and drinks. \n\n\n\nAm Juni Juni organiséiert Mesa 3 Diskussiounsronnen iwwer en Null Offall Lifestyle. Hei wäert Dir diskutéieren wéi Dir Äre perséinlechen Offall op e Minimum reduzéiere kënnt. Dëse wäert iwwer Iessen a Gedrénks goen.
URL:https://www.transition-minett.lu/event/chat-zero-dechet-alimentation-et-boissons-2/
LOCATION:Mesa\, 1\, rue du Moulin\, Esch-Alzette\, Luxembourg
ATTACH;FMTTYPE=image/jpeg:https://www.transition-minett.lu/wp-content/uploads/zero-dechet.jpg
ORGANIZER;CN="Mesa%2C%20Transition%20Minett":MAILTO:contact@transition-minett.lu
END:VEVENT
BEGIN:VEVENT
DTSTART;TZID=Europe/Luxembourg:20210709T193000
DTEND;TZID=Europe/Luxembourg:20210709T220000
DTSTAMP:20210722T113423
CREATED:20210621T165654Z
LAST-MODIFIED:20210630T154733Z
UID:2021-1625859000-1625868000@www.transition-minett.lu
SUMMARY:Scène ouverte à la Mesa!
DESCRIPTION:Vous aimez chanter\, jouer d’un instrument\, slamer\, clamer de la poésie\, jamer\, danser ? Partagez vos talents! Vendredi 9 juillet\, la scène de la Mesa est à vous – un piano\, une guitare et un micro seront là\, on n’attend plus que vous! Inscription pour une ou deux chansons obligatoire\, solo ou en duo/trio (merci de préciser le titre et l’interprète) \, évènement gratuit\, boissons à charge de chacun-e.  \n\n\n\nEN: Do you like to sing\, play an instrument\, slam\, declaim poetry\, jam\, dance? Share your talents! Friday July 9\, the Mesa stage is yours – a piano\, a guitar and a microphone will be there\, we are waiting for you! Registration for one or two songs required\, solo or duo / trio\, event free\, drinks and food are charged.   \n\n\n\nLUX : Sang Dir gär\, spillt en Instrument\, schreift Poesie\, Jam\, Danz? Deelt Är Talenter mat eis all! Freideg 9. Juli ass d’Mesa d’Bühne fir Iech – e Piano\, eng Gittar an e Mikro sinn do\, mir waarden op Iech! Solo oder am Duo / Trio\, obtrieden ass natirlech gratis\, Gedrénks kenn dir och kaafen. Umeldung fir een oder zwee Lidder obligatoresch leeft iwwer eisen Site.
URL:https://www.transition-minett.lu/event/scene-ouverte-a-la-mesa/
LOCATION:Mesa\, 1\, rue du Moulin\, Esch-Alzette\, Luxembourg
ATTACH;FMTTYPE=image/png:https://www.transition-minett.lu/wp-content/uploads/Capture-décran-2021-06-21-à-18.55.06.png
END:VEVENT
BEGIN:VEVENT
DTSTART;TZID=Europe/Luxembourg:20210715T180000
DTEND;TZID=Europe/Luxembourg:20210715T210000
DTSTAMP:20210722T113423
CREATED:20210628T145932Z
LAST-MODIFIED:20210630T160217Z
UID:2030-1626372000-1626382800@www.transition-minett.lu
SUMMARY:Repair café couture- masque\, petites réparations\, main et machine
DESCRIPTION:réparer\, c’est facile!  masque\, petites réparations\, main et machine \n\n\n\nrepair is easy! mask\, small repairs\, hand and machine \n\n\n\nReparatur ass einfach! Mask\, kleng Reparaturen\, Hand a Maschinn
URL:https://www.transition-minett.lu/event/repair-cafe-couture-masque-petites-reparations-main-et-machine/
LOCATION:Facilitec\, rue Berwart\, Esch-Alzette\, Luxembourg
ATTACH;FMTTYPE=image/jpeg:https://www.transition-minett.lu/wp-content/uploads/a2779f26-6d7b-4718-939b-f8b388730aa1.jpg
ORGANIZER;CN="Mesa%2C%20Transition%20Minett":MAILTO:contact@transition-minett.lu
END:VEVENT
END:VCALENDAR