    BEGIN:VCALENDAR
VERSION:2.0
PRODID:-//Transition Minett - ECPv5.9.1//NONSGML v1.0//EN
CALSCALE:GREGORIAN
METHOD:PUBLISH
X-WR-CALNAME:Transition Minett
X-ORIGINAL-URL:https://www.transition-minett.lu
X-WR-CALDESC:évènements pour Transition Minett
BEGIN:VTIMEZONE
TZID:Europe/Luxembourg
BEGIN:DAYLIGHT
TZOFFSETFROM:+0100
TZOFFSETTO:+0200
TZNAME:CEST
DTSTART:20200329T010000
END:DAYLIGHT
BEGIN:STANDARD
TZOFFSETFROM:+0200
TZOFFSETTO:+0100
TZNAME:CET
DTSTART:20201025T010000
END:STANDARD
BEGIN:DAYLIGHT
TZOFFSETFROM:+0100
TZOFFSETTO:+0200
TZNAME:CEST
DTSTART:20210328T010000
END:DAYLIGHT
BEGIN:STANDARD
TZOFFSETFROM:+0200
TZOFFSETTO:+0100
TZNAME:CET
DTSTART:20211031T010000
END:STANDARD
END:VTIMEZONE
BEGIN:VEVENT
DTSTART;TZID=Europe/Luxembourg:20210424T100000
DTEND;TZID=Europe/Luxembourg:20210424T170000
DTSTAMP:20211010T011658
CREATED:20201020T101717Z
LAST-MODIFIED:20210322T154011Z
UID:773-1619258400-1619283600@www.transition-minett.lu
SUMMARY:Atelier up-cycling: Tawashi
DESCRIPTION:Découvrez avec Sofia la méthode du tissage simple et transformez de vieux chaussettes en eponge! Adultes et enfants bienvenus dès 10 ans. Gratuit\, pas d’inscription \n\n\n\nEntdeckt mam Sofia d’Methode vum einfachen Weben an transforméiert al Strempen zu Schwemp! Erwuessener a Kanner vun 10 Joer un wëllkomm. Gratis\, keg Umedlung neideg \n\n\n\nDiscover with Sofia the method of simple weaving and transform old socks into sponges! Adults and children welcome from 10 years old. Free\, no subscription needed
URL:https://www.transition-minett.lu/event/atelier-up-cycling-faire-un-tapis-de-t-shirt/
LOCATION:Place du Bril\, 120\, Rue de l'Alzette\, Esch-sur-Alzette\, Luxembourg\, 4010\, Luxembourg
CATEGORIES:Mesa,Transition Minett
ATTACH;FMTTYPE=image/jpeg:https://www.transition-minett.lu/wp-content/uploads/upcycling.jpg
END:VEVENT
BEGIN:VEVENT
DTSTART;TZID=Europe/Luxembourg:20210128T190000
DTEND;TZID=Europe/Luxembourg:20210128T210000
DTSTAMP:20211010T011658
CREATED:20201020T130928Z
LAST-MODIFIED:20210119T191309Z
UID:787-1611860400-1611867600@www.transition-minett.lu
SUMMARY:Film night: a plastic Ocean
DESCRIPTION:FR \n\n\n\nCe documentaire met en lumière les conséquences de notre mode de vie sur les fonds marins et ses habitants. L’équipe a fait le tour du monde afin de découvrir ce qui se cache au fond de nos Océans.Entrée libre\, inscription ci-dessous \n\n\n\nEN \n\n\n\nThis documentary highlights the consequences of our way of life on the sea and its inhabitants. The team traveled around the world to discover what is hidden at the bottom of our oceans.Free entry\, registration here below \n\n\n\nLUX \n\n\n\nDësen Documentaire beliicht d’Konsequenze vun eisem Liewensstil op der Oyean a sengen Awunner. D’Team ass ronderëm d’Welt gereest fir z’entdecken wat um Enn vun eisen Ozeanen verstoppt ass.Gratis Entrée\, Umeldung hei ënnen
URL:https://www.transition-minett.lu/event/film-night-a-plastic-ocean/
LOCATION:Mesa\, 1\, rue du Moulin\, Esch-Alzette\, Luxembourg
CATEGORIES:Mesa,Transition Minett
ATTACH;FMTTYPE=image/jpeg:https://www.transition-minett.lu/wp-content/uploads/ocean.jpg
END:VEVENT
BEGIN:VEVENT
DTSTART;TZID=Europe/Luxembourg:20201121T140000
DTEND;TZID=Europe/Luxembourg:20201121T153000
DTSTAMP:20211010T011658
CREATED:20201020T132259Z
LAST-MODIFIED:20201022T140346Z
UID:790-1605967200-1605972600@www.transition-minett.lu
SUMMARY:Atelier upcycling enfants- bouchons de liège pour Noël
DESCRIPTION:FRUn Noël upcyclé\, ça vous dit? Sophie propose des ateliers récups aux enfants et aux adultes. L’idée est de faire avec le matériel qui traine à la maisonou qu’on peut facilement récupérer. Pour réapprendre à faire simplement avec ce qu’on a!Pour préparer Noël\, nous fabriquerons des petits anges pour le sapin avec des bouchons\, du papier\, du tissu et des rubans. Pour enfants\, adultes bienvenus.Gratuit\, sur inscription: ci-dessousLUXEn upcycled Chrëschtdag\, wat mengt Dir? D’Sophie bitt Erhuelungsateliere fir Kanner an Erwuessener un. D’Iddi ass et mat der Ausrüstung doheem ze maachen oder dat kann einfach erëmfonnt ginn. Fir nei ze léieren wéi een einfach maache mat deem wat mer hunn!Fir eis op Chrëschtdag virzebereeden\, wäerte mir kleng Engele fir de Bam mat Korken\, Pabeier\, Stoff a Bännercher maachen.Fir Kanner\, Erwuessener wëllkomm.Gratis\, Umdelung: hei ënnen \n\n\n\nENAn upcycled Christmas\, what do you think? Sophie offers upcycling workshops for children and adults. The idea is to do with the equipment lying around at home or that can be easily found. To relearn how to simply do with what we have!To prepare for Christmas\, we will make little angels for the tree with corks\, paper\, fabric and ribbons.For children\, adults welcome. Free\, upon registration: here below
URL:https://www.transition-minett.lu/event/atelier-upcycling-enfants-bouchons-de-liege-pour-noel/
LOCATION:Mesa\, 1\, rue du Moulin\, Esch-Alzette\, Luxembourg
CATEGORIES:Mesa,Transition Minett
ATTACH;FMTTYPE=image/jpeg:https://www.transition-minett.lu/wp-content/uploads/bouchons.jpg
END:VEVENT
BEGIN:VEVENT
DTSTART;TZID=Europe/Luxembourg:20201112T190000
DTEND;TZID=Europe/Luxembourg:20201112T203000
DTSTAMP:20211010T011658
CREATED:20201020T132655Z
LAST-MODIFIED:20201022T140522Z
UID:795-1605207600-1605213000@www.transition-minett.lu
SUMMARY:Atelier pain au levain
DESCRIPTION:FRDécouvrez avec Antonine les secrets du pain au levain\, pour assurer un pain frais et fait maison quand vous en avez besoin.Gratuit\, inscription obligatoire: ci-dessous \n\n\n\nLUXEntdeckt mam Antonine d’Geheimnisser vum Sauderd Brout\, fir frësch an hausgemaacht Brout ze garantéieren wann Dir et braucht.Gratis\, Umeldung erfuerderlech: inscription ci-dessous \n\n\n\nENDiscover with Antonine the secrets of sourdough bread\, to ensure fresh and homemade bread when you need it.Free\, registration required: here below
URL:https://www.transition-minett.lu/event/atelier-pain-au-levain/
LOCATION:Mesa\, 1\, rue du Moulin\, Esch-Alzette\, Luxembourg
CATEGORIES:Mesa,Transition Minett
ATTACH;FMTTYPE=image/jpeg:https://www.transition-minett.lu/wp-content/uploads/pain.jpg
END:VEVENT
BEGIN:VEVENT
DTSTART;TZID=Europe/Luxembourg:20201107T190000
DTEND;TZID=Europe/Luxembourg:20201107T210000
DTSTAMP:20211010T011658
CREATED:20201020T132936Z
LAST-MODIFIED:20201022T140558Z
UID:799-1604775600-1604782800@www.transition-minett.lu
SUMMARY:Concert Bakhti et Yen- mantra/spirit music
DESCRIPTION:ENBhakti and Yen are leading an interactive concert experience.Go with them on a musical journey and let yourself be guided inwards by celestial violin sounds and a deeply touching voice.Free entrance\, hat in the end for the artists – limited seats\, please subscribe here below \n\n\n\nLUXBhakti und Yen führen in ein interaktives Konzert Erlebnis. Begebe dich mit ihnen auf eine musikalische Reise und lass dich von himmlischen Geigenklängen und einer tiefberührenden Stimme nach innen führen. \n\n\n\nGratis Entrée\, Hutt um Enn fir d’Kënschtler – limitéiert Plazen\, Anschreiwen per E-Mail: hei ënnen
URL:https://www.transition-minett.lu/event/concert-bakhti-et-yen-mantra-spirit-music/
LOCATION:Mesa\, 1\, rue du Moulin\, Esch-Alzette\, Luxembourg
CATEGORIES:Mesa,Transition Minett
ATTACH;FMTTYPE=image/jpeg:https://www.transition-minett.lu/wp-content/uploads/concert.jpg
END:VEVENT
END:VCALENDAR