    BEGIN:VCALENDAR
VERSION:2.0
PRODID:-//Transition Minett - ECPv5.7.0//NONSGML v1.0//EN
CALSCALE:GREGORIAN
METHOD:PUBLISH
X-WR-CALNAME:Transition Minett
X-ORIGINAL-URL:https://www.transition-minett.lu
X-WR-CALDESC:évènements pour Transition Minett
BEGIN:VTIMEZONE
TZID:Europe/Luxembourg
BEGIN:DAYLIGHT
TZOFFSETFROM:+0100
TZOFFSETTO:+0200
TZNAME:CEST
DTSTART:20210328T010000
END:DAYLIGHT
BEGIN:STANDARD
TZOFFSETFROM:+0200
TZOFFSETTO:+0100
TZNAME:CET
DTSTART:20211031T010000
END:STANDARD
END:VTIMEZONE
BEGIN:VEVENT
DTSTART;TZID=Europe/Luxembourg:20210325T190000
DTEND;TZID=Europe/Luxembourg:20210325T203000
DTSTAMP:20210722T113403
CREATED:20210218T100031Z
LAST-MODIFIED:20210218T102634Z
UID:1334-1616698800-1616704200@www.transition-minett.lu
SUMMARY:Atelier zéro déchet cire d'abeille
DESCRIPTION:Marre du film alimentaire plastique? Venez fabriquer  avec nous des beewrap\, un emballage réutilisable en tissu avec de la cire d’abeille. Il y a aussi la possibilité de récupérer un kit  à la Mesa pour faire l’atelier chez soi. \n\n\n\nCome and make some up-cycled beewraps with us. If you prefer you can also get a kit form us to do the workshop at home.  \n\n\n\nKommt a probéiert mat eis Verpackungen mat hëllef vun Beiewues ze maachen. Falls dir et léiwer géift doheem maachen kenn dir vun eis och en Kit kréien fir den Atelier ze maachen.
URL:https://www.transition-minett.lu/event/1334/
LOCATION:Mesa\, 1\, rue du Moulin\, Esch-Alzette\, Luxembourg
ATTACH;FMTTYPE=image/jpeg:https://www.transition-minett.lu/wp-content/uploads/beewrap1-scaled.jpg
END:VEVENT
END:VCALENDAR