    BEGIN:VCALENDAR
VERSION:2.0
PRODID:-//Transition Minett - ECPv5.7.0//NONSGML v1.0//EN
CALSCALE:GREGORIAN
METHOD:PUBLISH
X-WR-CALNAME:Transition Minett
X-ORIGINAL-URL:https://www.transition-minett.lu
X-WR-CALDESC:évènements pour Transition Minett
BEGIN:VTIMEZONE
TZID:Europe/Luxembourg
BEGIN:DAYLIGHT
TZOFFSETFROM:+0100
TZOFFSETTO:+0200
TZNAME:CEST
DTSTART:20210328T010000
END:DAYLIGHT
BEGIN:STANDARD
TZOFFSETFROM:+0200
TZOFFSETTO:+0100
TZNAME:CET
DTSTART:20211031T010000
END:STANDARD
END:VTIMEZONE
BEGIN:VEVENT
DTSTART;TZID=Europe/Luxembourg:20210309T200000
DTEND;TZID=Europe/Luxembourg:20210309T213000
DTSTAMP:20210722T113326
CREATED:20210210T162841Z
LAST-MODIFIED:20210216T134955Z
UID:1299-1615320000-1615325400@www.transition-minett.lu
SUMMARY:Atelier de Relaxation avec Noemie
DESCRIPTION:Prenez du temps pour vous… \n\n\n\nNoémie Riefolo\, coach en fitness et sophrologie\, vous invite à vous relaxer\, grâce à divers exercices: respiration\, détente musculaire\, visualisation. Merci de préciser si vous voulez participer par Zoom ou en personne. \n\n\n\nNoémie Riefolo\, Fitness a Sophrologie Coach\, invitéiert Iech ze relaxéieren\, mat hëllef vun Exercicer wei : Ootmung\, Muskelrelaxatioun oder Visualiséierung. Sot eis Wann ech gelift gescheet ob dir iwwer Zoom oder a Persoun participéieren wëllt. \n\n\n\nTake some time for yourself… \n\n\n\nNoémie Riefolo\, fitness and sophrology coach\, invites you to relax with different exercises: breathing\, muscles relaxation and visualisation. Thank you for specifing if you want to participate via Zoom or in person.
URL:https://www.transition-minett.lu/event/atelier-de-relaxation-avec-noemie/
LOCATION:Mesa\, 1\, rue du Moulin\, Esch-Alzette\, Luxembourg
ATTACH;FMTTYPE=image/jpeg:https://www.transition-minett.lu/wp-content/uploads/relaxationNOemie.jpg
ORGANIZER;CN="Mesa%2C%20Transition%20Minett":MAILTO:contact@transition-minett.lu
END:VEVENT
END:VCALENDAR